BEGIN:VCALENDAR
VERSION:2.0
PRODID:-//eventon.com NONSGML v1.0//EN
BEGIN:VEVENT
UID:69e7356035ece
DTSTAMP:20260421T032920
DTSTART:20230418T140000Z
DTEND:20230422T220000Z
TZID:America/Chicago
LOCATION:Horse Haven 270 H Burge Road
SUMMARY:Spring 2023 Retreat #4 (Confidence Retreat)
DESCRIPTION: Have you been on the fence about taking a vacation for yourself? Or have you ever wondered what that vacation could look like for yourself AND your horse? You don’t have to look any further for that fun\,  educational\,  and once-in-a-lifetime experience than Horse Haven Ranch in Poplarville\,  Mississippi\,  home[..]\nhttps://gasconhorsemanship.com/event/spring-2023-retreat-4-confidence-retreat/
URL:https://gasconhorsemanship.com/event/spring-2023-retreat-4-confidence-retreat/
END:VEVENT
END:VCALENDAR